BEGIN:VCALENDAR
VERSION:2.0
PRODID:-//Leesburg Animal Park - ECPv6.15.20//NONSGML v1.0//EN
CALSCALE:GREGORIAN
METHOD:PUBLISH
X-ORIGINAL-URL:https://leesburganimalpark.com
X-WR-CALDESC:Events for Leesburg Animal Park
REFRESH-INTERVAL;VALUE=DURATION:PT1H
X-Robots-Tag:noindex
X-PUBLISHED-TTL:PT1H
BEGIN:VTIMEZONE
TZID:UTC
BEGIN:STANDARD
TZOFFSETFROM:+0000
TZOFFSETTO:+0000
TZNAME:UTC
DTSTART:20230101T000000
END:STANDARD
END:VTIMEZONE
BEGIN:VEVENT
DTSTART;TZID=UTC:20241231T110000
DTEND;TZID=UTC:20241231T130000
DTSTAMP:20260422T105447
CREATED:20241228T030155Z
LAST-MODIFIED:20241228T030155Z
UID:62753-1735642800-1735650000@leesburganimalpark.com
SUMMARY:Happy Noon Year Event!
DESCRIPTION:????Bring the whole family and celebrate the New Year early at our Happy Noon Year Party!\nThis festive\, family-friendly event is perfect for parents and kids who want to ring in 2025 without staying up late. Join us for an exciting countdown to NOON featuring a balloon drop and confetti blast!????\nEvent Highlights:\n???? Countdown & Noon Balloon Drop\nExperience the joy of a New Year’s countdown complete with a colorful balloon drop and festive confetti at 12:00 PM sharp!\n???? Live Entertainment\nGet ready for fun with our amazing DJ offering music\, games\, and interactive dancing.\n???? Animal Encounters\nMeet some of our cutest animals up close! Special animal interactions are scheduled every 30 minutes.\n???? DIY Craft Station\nKids can get creative making New Year’s crowns and “wishing wands.” Plus\, fill out “My New Year’s Resolution” boards to reflect on your goals for 2025!\n???? Photo Booth Fun\nSnap a picture with festive props at our Happy Noon Year photo booth\, complete with a backdrop featuring “2025.”\n???? Hot Chocolate Bar & Snacks\nEnjoy a warm cup of hot chocolate with all the toppings\, mini mocktails for kids (served in fancy champagne flutes)\, and light snacks like cookies and popcorn.\nFAQs:\n???? Is this event suitable for all ages? Yes! It’s designed for families with children of all ages.\n???? What time is the balloon drop? The countdown and balloon drop will happen right at NOON!\n???? Will there be food? We will host a hot chocolate bar for everyone to enjoy.\nEnd 2024 with fun\, laughter\, and furry friends! ???? We can’t wait to celebrate with you.\n????️ Reserve your tickets today: leesburganimalpark.com
URL:https://leesburganimalpark.com/event/happy-noon-year-event/
ATTACH;FMTTYPE=image/jpeg:https://leesburganimalpark.com/wp-content/uploads/2024/12/471303894_1046546757507475_459335350850893740_n.jpg
END:VEVENT
END:VCALENDAR